BEGIN:VCALENDAR
VERSION:2.0
PRODID:-//SVP Sarganserland //NONSGML Events //EN
CALSCALE:GREGORIAN
X-WR-CALNAME:SVP Sarganserland
BEGIN:VEVENT
CREATED:20260421T163045Z
UID:1348
DTEND:20260509T200000
DTSTART:20260502T100000
DTSTAMP:20260422T140459Z
LOCATION:Sargans
DESCRIPTION:Vom 02. Mai - 09. Mai 2026 findet die Siga Messe statt. Die SVP Sargan
SUMMARY:SIGA Messe 2026
ORGANIZER:SVP Sarganserland
URL;VALUE=URI:https://www.svp-sarganserland.ch/termine/siga-messe-2026/
TRANSP:OPAQUE
END:VEVENT
END:VCALENDAR
